BEGIN:VCALENDAR
VERSION:2.0
PRODID:-//Jennifer Wallens - ECPv6.15.20//NONSGML v1.0//EN
CALSCALE:GREGORIAN
METHOD:PUBLISH
X-ORIGINAL-URL:https://jenniferwallens.com
X-WR-CALDESC:Events for Jennifer Wallens
REFRESH-INTERVAL;VALUE=DURATION:PT1H
X-Robots-Tag:noindex
X-PUBLISHED-TTL:PT1H
BEGIN:VTIMEZONE
TZID:UTC
BEGIN:STANDARD
TZOFFSETFROM:+0000
TZOFFSETTO:+0000
TZNAME:UTC
DTSTART:20210101T000000
END:STANDARD
END:VTIMEZONE
BEGIN:VEVENT
DTSTART;TZID=UTC:20220908T190000
DTEND;TZID=UTC:20220908T203000
DTSTAMP:20260419T133725
CREATED:20220904T205939Z
LAST-MODIFIED:20220904T211051Z
UID:1208-1662663600-1662669000@jenniferwallens.com
SUMMARY:New Intuitive Psychic Mediumship Development Class via Zoom
DESCRIPTION:In this weekly online class\, Certified Psychic and Medium Jennifer Wallens\, Psychic Jen will help you open up your abilities and connect with your own spirit more deeply as well as connecting to your friends and loved ones in the spirit world. There will be a different subject each week\, sitting in the power\, healing meditations and hands on practice exercises. There is no commitment and you may also access each class for 30 days afterwards. The cost is $100 per month for 4-5 classes as some month there are 5 Thursdays. The class is held Thursday evening 7-8:30 pm eastern time. No refunds are offered. Tuition is due by 1st of each month. This course will continue throughout the year with the exception of December. To Register go to link on Services page for monthly class\, or text or call us at 702-334-6675 . We can also send you a PayPal invoice link
URL:https://jenniferwallens.com/event/intuitive-psychic-mediumship-development-online-class/2022-09-08/
LOCATION:Zoom
ATTACH;FMTTYPE=image/jpeg:https://jenniferwallens.com/wp-content/uploads/2022/09/A4383D96-A89F-4EAC-8773-7592B42821DC.jpeg
ORGANIZER;CN="Jennifer Wallens":MAILTO:jenniferwallens@icloud.com
END:VEVENT
END:VCALENDAR